BEGIN:VCALENDAR
VERSION:2.0
PRODID:-//Lead the Way - ECPv4.6.9//NONSGML v1.0//EN
CALSCALE:GREGORIAN
METHOD:PUBLISH
X-WR-CALNAME:Lead the Way
X-ORIGINAL-URL:http://lead-the-way.co.nz
X-WR-CALDESC:Events for Lead the Way
BEGIN:VEVENT
DTSTART;VALUE=DATE:20180312
DTEND;VALUE=DATE:20180315
DTSTAMP:20180122T200804
CREATED:20170710T030707Z
LAST-MODIFIED:20180119T005217Z
UID:1205-1520812800-1521071999@lead-the-way.co.nz
SUMMARY:Presentation
DESCRIPTION:
URL:http://lead-the-way.co.nz/event/presentation/
ATTACH;FMTTYPE=image/jpeg:http://lead-the-way.co.nz/wp-content/uploads/2014/05/main_bottom.jpg
END:VEVENT
END:VCALENDAR