BEGIN:VCALENDAR
VERSION:2.0
PRODID:-//Lead the Way - ECPv4.6.9//NONSGML v1.0//EN
CALSCALE:GREGORIAN
METHOD:PUBLISH
X-WR-CALNAME:Lead the Way
X-ORIGINAL-URL:http://lead-the-way.co.nz
X-WR-CALDESC:Events for Lead the Way
BEGIN:VEVENT
DTSTART;VALUE=DATE:20180228
DTEND;VALUE=DATE:20180302
DTSTAMP:20180122T200725
CREATED:20171009T211834Z
LAST-MODIFIED:20180119T004425Z
UID:1211-1519776000-1519948799@lead-the-way.co.nz
SUMMARY:The Leader Within
DESCRIPTION:The Leader Within is a two day journey of exploration and self discovery.  The course is designed to challenge\, assess strengths and weaknesses\, explore leadership ideas and concepts and at the same time be a personal journey for each participant. \nTime is shared between ground-based exercises with the horses in the arena\, video facilitation to aid self-awareness and facilitated discussion.  The discussion analyses and explores the lessons learnt with the horses and how they are used in the workplace and life in general. \n  \nBOOK NOW\n
URL:http://lead-the-way.co.nz/event/the-leader-within/
ATTACH;FMTTYPE=image/jpeg:http://lead-the-way.co.nz/wp-content/uploads/2017/10/leader_within.jpg
ORGANIZER;CN="Lead%20the%20Way":MAILTO:contact@lead-the-way.co.nz
END:VEVENT
END:VCALENDAR